{ "currentVersion": 11.5, "cimVersion": "3.5.0", "serviceDescription": "
Community Basemap Vector Tiles<\/SPAN><\/P><\/DIV>",
"mapName": "Layers",
"description": " Community Basemap Vector Tiles<\/SPAN><\/P><\/DIV>",
"copyrightText": "",
"supportsDynamicLayers": false,
"layers": [
{
"id": 0,
"name": "1:1,128",
"parentLayerId": -1,
"defaultVisibility": true,
"subLayerIds": [
1,
2,
3,
4,
5,
6,
7,
8
],
"minScale": 1128,
"maxScale": 0,
"type": "Group Layer",
"supportsDynamicLegends": false
},
{
"id": 1,
"name": "Town Names",
"parentLayerId": 0,
"defaultVisibility": true,
"subLayerIds": null,
"minScale": 0,
"maxScale": 0,
"type": "Feature Layer",
"geometryType": "esriGeometryPoint",
"supportsDynamicLegends": true
},
{
"id": 2,
"name": "Town Names - Surrounding County",
"parentLayerId": 0,
"defaultVisibility": true,
"subLayerIds": null,
"minScale": 150000,
"maxScale": 0,
"type": "Feature Layer",
"geometryType": "esriGeometryPoint",
"supportsDynamicLegends": true
},
{
"id": 3,
"name": "Roads - Norfolk",
"parentLayerId": 0,
"defaultVisibility": true,
"subLayerIds": null,
"minScale": 0,
"maxScale": 0,
"type": "Feature Layer",
"geometryType": "esriGeometryPolyline",
"supportsDynamicLegends": true
},
{
"id": 4,
"name": "Roads - ORN",
"parentLayerId": 0,
"defaultVisibility": true,
"subLayerIds": null,
"minScale": 149999,
"maxScale": 0,
"type": "Feature Layer",
"geometryType": "esriGeometryPolyline",
"supportsDynamicLegends": true
},
{
"id": 5,
"name": "Railways_plyline",
"parentLayerId": 0,
"defaultVisibility": true,
"subLayerIds": null,
"minScale": 0,
"maxScale": 0,
"type": "Feature Layer",
"geometryType": "esriGeometryPolyline",
"supportsDynamicLegends": true
},
{
"id": 6,
"name": "Muni_Bndry_Surround_Norf_ply",
"parentLayerId": 0,
"defaultVisibility": true,
"subLayerIds": null,
"minScale": 0,
"maxScale": 0,
"type": "Feature Layer",
"geometryType": "esriGeometryPolygon",
"supportsDynamicLegends": true
},
{
"id": 7,
"name": "Municipal Boundaries",
"parentLayerId": 0,
"defaultVisibility": true,
"subLayerIds": null,
"minScale": 0,
"maxScale": 0,
"type": "Feature Layer",
"geometryType": "esriGeometryPolyline",
"supportsDynamicLegends": true
},
{
"id": 8,
"name": "LakeErie_WithBays_ply",
"parentLayerId": 0,
"defaultVisibility": true,
"subLayerIds": null,
"minScale": 0,
"maxScale": 0,
"type": "Feature Layer",
"geometryType": "esriGeometryPolygon",
"supportsDynamicLegends": true
},
{
"id": 9,
"name": "1:2,257",
"parentLayerId": -1,
"defaultVisibility": true,
"subLayerIds": [
10,
11,
12,
13,
14,
15,
16,
17
],
"minScale": 2257,
"maxScale": 1129,
"type": "Group Layer",
"supportsDynamicLegends": false
},
{
"id": 10,
"name": "Town Names",
"parentLayerId": 9,
"defaultVisibility": true,
"subLayerIds": null,
"minScale": 0,
"maxScale": 0,
"type": "Feature Layer",
"geometryType": "esriGeometryPoint",
"supportsDynamicLegends": true
},
{
"id": 11,
"name": "Town Names - Surrounding County",
"parentLayerId": 9,
"defaultVisibility": true,
"subLayerIds": null,
"minScale": 150000,
"maxScale": 0,
"type": "Feature Layer",
"geometryType": "esriGeometryPoint",
"supportsDynamicLegends": true
},
{
"id": 12,
"name": "Railways_plyline",
"parentLayerId": 9,
"defaultVisibility": true,
"subLayerIds": null,
"minScale": 0,
"maxScale": 0,
"type": "Feature Layer",
"geometryType": "esriGeometryPolyline",
"supportsDynamicLegends": true
},
{
"id": 13,
"name": "Roads - Norfolk",
"parentLayerId": 9,
"defaultVisibility": true,
"subLayerIds": null,
"minScale": 0,
"maxScale": 0,
"type": "Feature Layer",
"geometryType": "esriGeometryPolyline",
"supportsDynamicLegends": true
},
{
"id": 14,
"name": "Roads - ORN",
"parentLayerId": 9,
"defaultVisibility": true,
"subLayerIds": null,
"minScale": 149999,
"maxScale": 0,
"type": "Feature Layer",
"geometryType": "esriGeometryPolyline",
"supportsDynamicLegends": true
},
{
"id": 15,
"name": "Municipal Boundaries",
"parentLayerId": 9,
"defaultVisibility": true,
"subLayerIds": null,
"minScale": 0,
"maxScale": 0,
"type": "Feature Layer",
"geometryType": "esriGeometryPolyline",
"supportsDynamicLegends": true
},
{
"id": 16,
"name": "Muni_Bndry_Surround_Norf_ply",
"parentLayerId": 9,
"defaultVisibility": true,
"subLayerIds": null,
"minScale": 0,
"maxScale": 0,
"type": "Feature Layer",
"geometryType": "esriGeometryPolygon",
"supportsDynamicLegends": true
},
{
"id": 17,
"name": "LakeErie_WithBays_ply",
"parentLayerId": 9,
"defaultVisibility": true,
"subLayerIds": null,
"minScale": 0,
"maxScale": 0,
"type": "Feature Layer",
"geometryType": "esriGeometryPolygon",
"supportsDynamicLegends": true
},
{
"id": 18,
"name": "1:4514",
"parentLayerId": -1,
"defaultVisibility": true,
"subLayerIds": [
19,
20,
21,
22,
23,
24,
25,
26
],
"minScale": 5000,
"maxScale": 2258,
"type": "Group Layer",
"supportsDynamicLegends": false
},
{
"id": 19,
"name": "Town Names",
"parentLayerId": 18,
"defaultVisibility": true,
"subLayerIds": null,
"minScale": 0,
"maxScale": 0,
"type": "Feature Layer",
"geometryType": "esriGeometryPoint",
"supportsDynamicLegends": true
},
{
"id": 20,
"name": "Town Names - Surrounding County",
"parentLayerId": 18,
"defaultVisibility": true,
"subLayerIds": null,
"minScale": 150000,
"maxScale": 0,
"type": "Feature Layer",
"geometryType": "esriGeometryPoint",
"supportsDynamicLegends": true
},
{
"id": 21,
"name": "Railways_plyline",
"parentLayerId": 18,
"defaultVisibility": true,
"subLayerIds": null,
"minScale": 0,
"maxScale": 0,
"type": "Feature Layer",
"geometryType": "esriGeometryPolyline",
"supportsDynamicLegends": true
},
{
"id": 22,
"name": "Roads - Norfolk",
"parentLayerId": 18,
"defaultVisibility": true,
"subLayerIds": null,
"minScale": 0,
"maxScale": 0,
"type": "Feature Layer",
"geometryType": "esriGeometryPolyline",
"supportsDynamicLegends": true
},
{
"id": 23,
"name": "Roads - ORN",
"parentLayerId": 18,
"defaultVisibility": true,
"subLayerIds": null,
"minScale": 149999,
"maxScale": 0,
"type": "Feature Layer",
"geometryType": "esriGeometryPolyline",
"supportsDynamicLegends": true
},
{
"id": 24,
"name": "Municipal Boundaries",
"parentLayerId": 18,
"defaultVisibility": true,
"subLayerIds": null,
"minScale": 0,
"maxScale": 0,
"type": "Feature Layer",
"geometryType": "esriGeometryPolyline",
"supportsDynamicLegends": true
},
{
"id": 25,
"name": "Muni_Bndry_Surround_Norf_ply",
"parentLayerId": 18,
"defaultVisibility": true,
"subLayerIds": null,
"minScale": 0,
"maxScale": 0,
"type": "Feature Layer",
"geometryType": "esriGeometryPolygon",
"supportsDynamicLegends": true
},
{
"id": 26,
"name": "LakeErie_WithBays_ply",
"parentLayerId": 18,
"defaultVisibility": true,
"subLayerIds": null,
"minScale": 0,
"maxScale": 0,
"type": "Feature Layer",
"geometryType": "esriGeometryPolygon",
"supportsDynamicLegends": true
},
{
"id": 27,
"name": "1:9028",
"parentLayerId": -1,
"defaultVisibility": true,
"subLayerIds": [
28,
29,
30,
31,
32,
33,
34,
35
],
"minScale": 10001,
"maxScale": 5001,
"type": "Group Layer",
"supportsDynamicLegends": false
},
{
"id": 28,
"name": "Town Names - Surrounding County",
"parentLayerId": 27,
"defaultVisibility": true,
"subLayerIds": null,
"minScale": 150000,
"maxScale": 0,
"type": "Feature Layer",
"geometryType": "esriGeometryPoint",
"supportsDynamicLegends": true
},
{
"id": 29,
"name": "Town Names",
"parentLayerId": 27,
"defaultVisibility": true,
"subLayerIds": null,
"minScale": 0,
"maxScale": 0,
"type": "Feature Layer",
"geometryType": "esriGeometryPoint",
"supportsDynamicLegends": true
},
{
"id": 30,
"name": "Railways_plyline",
"parentLayerId": 27,
"defaultVisibility": true,
"subLayerIds": null,
"minScale": 0,
"maxScale": 0,
"type": "Feature Layer",
"geometryType": "esriGeometryPolyline",
"supportsDynamicLegends": true
},
{
"id": 31,
"name": "Roads - Norfolk",
"parentLayerId": 27,
"defaultVisibility": true,
"subLayerIds": null,
"minScale": 0,
"maxScale": 0,
"type": "Feature Layer",
"geometryType": "esriGeometryPolyline",
"supportsDynamicLegends": true
},
{
"id": 32,
"name": "Roads - ORN",
"parentLayerId": 27,
"defaultVisibility": true,
"subLayerIds": null,
"minScale": 149999,
"maxScale": 0,
"type": "Feature Layer",
"geometryType": "esriGeometryPolyline",
"supportsDynamicLegends": true
},
{
"id": 33,
"name": "Municipal Boundaries",
"parentLayerId": 27,
"defaultVisibility": true,
"subLayerIds": null,
"minScale": 0,
"maxScale": 0,
"type": "Feature Layer",
"geometryType": "esriGeometryPolyline",
"supportsDynamicLegends": true
},
{
"id": 34,
"name": "LakeErie_WithBays_ply",
"parentLayerId": 27,
"defaultVisibility": true,
"subLayerIds": null,
"minScale": 0,
"maxScale": 0,
"type": "Feature Layer",
"geometryType": "esriGeometryPolygon",
"supportsDynamicLegends": true
},
{
"id": 35,
"name": "Muni_Bndry_Surround_Norf_ply",
"parentLayerId": 27,
"defaultVisibility": true,
"subLayerIds": null,
"minScale": 0,
"maxScale": 0,
"type": "Feature Layer",
"geometryType": "esriGeometryPolygon",
"supportsDynamicLegends": true
},
{
"id": 36,
"name": "1:20,000",
"parentLayerId": -1,
"defaultVisibility": true,
"subLayerIds": [
37,
38,
39,
40,
41,
42,
43,
44,
45,
46
],
"minScale": 20000,
"maxScale": 10001,
"type": "Group Layer",
"supportsDynamicLegends": false
},
{
"id": 37,
"name": "Town Names",
"parentLayerId": 36,
"defaultVisibility": true,
"subLayerIds": null,
"minScale": 0,
"maxScale": 0,
"type": "Feature Layer",
"geometryType": "esriGeometryPoint",
"supportsDynamicLegends": true
},
{
"id": 38,
"name": "Town Names - Surrounding County",
"parentLayerId": 36,
"defaultVisibility": true,
"subLayerIds": null,
"minScale": 150000,
"maxScale": 0,
"type": "Feature Layer",
"geometryType": "esriGeometryPoint",
"supportsDynamicLegends": true
},
{
"id": 39,
"name": "Railways_plyline",
"parentLayerId": 36,
"defaultVisibility": true,
"subLayerIds": null,
"minScale": 0,
"maxScale": 0,
"type": "Feature Layer",
"geometryType": "esriGeometryPolyline",
"supportsDynamicLegends": true
},
{
"id": 40,
"name": "Roads - Norfolk",
"parentLayerId": 36,
"defaultVisibility": true,
"subLayerIds": null,
"minScale": 0,
"maxScale": 0,
"type": "Feature Layer",
"geometryType": "esriGeometryPolyline",
"supportsDynamicLegends": true
},
{
"id": 41,
"name": "Roads - ORN",
"parentLayerId": 36,
"defaultVisibility": true,
"subLayerIds": null,
"minScale": 149999,
"maxScale": 0,
"type": "Feature Layer",
"geometryType": "esriGeometryPolyline",
"supportsDynamicLegends": true
},
{
"id": 42,
"name": "Lot Lines",
"parentLayerId": 36,
"defaultVisibility": true,
"subLayerIds": null,
"minScale": 0,
"maxScale": 0,
"type": "Feature Layer",
"geometryType": "esriGeometryPolyline",
"supportsDynamicLegends": true
},
{
"id": 43,
"name": "Municipal Boundaries",
"parentLayerId": 36,
"defaultVisibility": true,
"subLayerIds": null,
"minScale": 0,
"maxScale": 0,
"type": "Feature Layer",
"geometryType": "esriGeometryPolyline",
"supportsDynamicLegends": true
},
{
"id": 44,
"name": "Township Boundary Line ",
"parentLayerId": 36,
"defaultVisibility": true,
"subLayerIds": null,
"minScale": 0,
"maxScale": 10000,
"type": "Feature Layer",
"geometryType": "esriGeometryPolyline",
"supportsDynamicLegends": true
},
{
"id": 45,
"name": "LakeErie_WithBays_ply",
"parentLayerId": 36,
"defaultVisibility": true,
"subLayerIds": null,
"minScale": 0,
"maxScale": 0,
"type": "Feature Layer",
"geometryType": "esriGeometryPolygon",
"supportsDynamicLegends": true
},
{
"id": 46,
"name": "Muni_Bndry_Surround_Norf_ply",
"parentLayerId": 36,
"defaultVisibility": true,
"subLayerIds": null,
"minScale": 0,
"maxScale": 0,
"type": "Feature Layer",
"geometryType": "esriGeometryPolygon",
"supportsDynamicLegends": true
},
{
"id": 47,
"name": "1:50,000",
"parentLayerId": -1,
"defaultVisibility": true,
"subLayerIds": [
48,
49,
50,
51,
52,
53,
54,
55,
56,
57,
58
],
"minScale": 50000,
"maxScale": 20001,
"type": "Group Layer",
"supportsDynamicLegends": false
},
{
"id": 48,
"name": "Town Names - Surrounding County",
"parentLayerId": 47,
"defaultVisibility": true,
"subLayerIds": null,
"minScale": 150000,
"maxScale": 0,
"type": "Feature Layer",
"geometryType": "esriGeometryPoint",
"supportsDynamicLegends": true
},
{
"id": 49,
"name": "Town Names",
"parentLayerId": 47,
"defaultVisibility": true,
"subLayerIds": null,
"minScale": 0,
"maxScale": 0,
"type": "Feature Layer",
"geometryType": "esriGeometryPoint",
"supportsDynamicLegends": true
},
{
"id": 50,
"name": "Railways_plyline",
"parentLayerId": 47,
"defaultVisibility": true,
"subLayerIds": null,
"minScale": 0,
"maxScale": 0,
"type": "Feature Layer",
"geometryType": "esriGeometryPolyline",
"supportsDynamicLegends": true
},
{
"id": 51,
"name": "Roads - Norfolk",
"parentLayerId": 47,
"defaultVisibility": true,
"subLayerIds": null,
"minScale": 0,
"maxScale": 0,
"type": "Feature Layer",
"geometryType": "esriGeometryPolyline",
"supportsDynamicLegends": true
},
{
"id": 52,
"name": "Roads - ORN",
"parentLayerId": 47,
"defaultVisibility": true,
"subLayerIds": null,
"minScale": 149999,
"maxScale": 0,
"type": "Feature Layer",
"geometryType": "esriGeometryPolyline",
"supportsDynamicLegends": true
},
{
"id": 53,
"name": "Municipal Boundaries",
"parentLayerId": 47,
"defaultVisibility": true,
"subLayerIds": null,
"minScale": 0,
"maxScale": 0,
"type": "Feature Layer",
"geometryType": "esriGeometryPolyline",
"supportsDynamicLegends": true
},
{
"id": 54,
"name": "Lot Lines",
"parentLayerId": 47,
"defaultVisibility": true,
"subLayerIds": null,
"minScale": 100000,
"maxScale": 24000,
"type": "Feature Layer",
"geometryType": "esriGeometryPolyline",
"supportsDynamicLegends": true
},
{
"id": 55,
"name": "Muni_Bndry_Surround_Norf_ply",
"parentLayerId": 47,
"defaultVisibility": true,
"subLayerIds": null,
"minScale": 0,
"maxScale": 0,
"type": "Feature Layer",
"geometryType": "esriGeometryPolygon",
"supportsDynamicLegends": true
},
{
"id": 56,
"name": "Township Boundary Line ",
"parentLayerId": 47,
"defaultVisibility": true,
"subLayerIds": null,
"minScale": 0,
"maxScale": 10000,
"type": "Feature Layer",
"geometryType": "esriGeometryPolyline",
"supportsDynamicLegends": true
},
{
"id": 57,
"name": "Township Areas",
"parentLayerId": 47,
"defaultVisibility": true,
"subLayerIds": null,
"minScale": 0,
"maxScale": 20001,
"type": "Feature Layer",
"geometryType": "esriGeometryPolygon",
"supportsDynamicLegends": true
},
{
"id": 58,
"name": "LakeErie_WithBays_ply",
"parentLayerId": 47,
"defaultVisibility": true,
"subLayerIds": null,
"minScale": 0,
"maxScale": 0,
"type": "Feature Layer",
"geometryType": "esriGeometryPolygon",
"supportsDynamicLegends": true
},
{
"id": 59,
"name": "1:100,000",
"parentLayerId": -1,
"defaultVisibility": true,
"subLayerIds": [
60,
61,
62,
63,
64,
65,
66,
67,
68
],
"minScale": 100000,
"maxScale": 50001,
"type": "Group Layer",
"supportsDynamicLegends": false
},
{
"id": 60,
"name": "Town Names",
"parentLayerId": 59,
"defaultVisibility": true,
"subLayerIds": null,
"minScale": 0,
"maxScale": 0,
"type": "Feature Layer",
"geometryType": "esriGeometryPoint",
"supportsDynamicLegends": true
},
{
"id": 61,
"name": "Town Names - Surrounding County",
"parentLayerId": 59,
"defaultVisibility": true,
"subLayerIds": null,
"minScale": 0,
"maxScale": 0,
"type": "Feature Layer",
"geometryType": "esriGeometryPoint",
"supportsDynamicLegends": true
},
{
"id": 62,
"name": "Roads - Norfolk",
"parentLayerId": 59,
"defaultVisibility": true,
"subLayerIds": null,
"minScale": 0,
"maxScale": 0,
"type": "Feature Layer",
"geometryType": "esriGeometryPolyline",
"supportsDynamicLegends": true
},
{
"id": 63,
"name": "Roads - ORN",
"parentLayerId": 59,
"defaultVisibility": true,
"subLayerIds": null,
"minScale": 0,
"maxScale": 0,
"type": "Feature Layer",
"geometryType": "esriGeometryPolyline",
"supportsDynamicLegends": true
},
{
"id": 64,
"name": "Municipal Boundaries",
"parentLayerId": 59,
"defaultVisibility": true,
"subLayerIds": null,
"minScale": 0,
"maxScale": 0,
"type": "Feature Layer",
"geometryType": "esriGeometryPolyline",
"supportsDynamicLegends": true
},
{
"id": 65,
"name": "Township Boundary Line ",
"parentLayerId": 59,
"defaultVisibility": true,
"subLayerIds": null,
"minScale": 0,
"maxScale": 10000,
"type": "Feature Layer",
"geometryType": "esriGeometryPolyline",
"supportsDynamicLegends": true
},
{
"id": 66,
"name": "LakeErie_WithBays_ply",
"parentLayerId": 59,
"defaultVisibility": true,
"subLayerIds": null,
"minScale": 0,
"maxScale": 0,
"type": "Feature Layer",
"geometryType": "esriGeometryPolygon",
"supportsDynamicLegends": true
},
{
"id": 67,
"name": "Township Areas",
"parentLayerId": 59,
"defaultVisibility": true,
"subLayerIds": null,
"minScale": 0,
"maxScale": 20001,
"type": "Feature Layer",
"geometryType": "esriGeometryPolygon",
"supportsDynamicLegends": true
},
{
"id": 68,
"name": "Municipal Boundaries Surround",
"parentLayerId": 59,
"defaultVisibility": true,
"subLayerIds": null,
"minScale": 0,
"maxScale": 0,
"type": "Feature Layer",
"geometryType": "esriGeometryPolygon",
"supportsDynamicLegends": true
},
{
"id": 69,
"name": "1:150,000",
"parentLayerId": -1,
"defaultVisibility": true,
"subLayerIds": [
70,
71,
72,
73,
74,
75,
76,
77
],
"minScale": 150000,
"maxScale": 100001,
"type": "Group Layer",
"supportsDynamicLegends": false
},
{
"id": 70,
"name": "Town Names - Surrounding County",
"parentLayerId": 69,
"defaultVisibility": true,
"subLayerIds": null,
"minScale": 0,
"maxScale": 0,
"type": "Feature Layer",
"geometryType": "esriGeometryPoint",
"supportsDynamicLegends": true
},
{
"id": 71,
"name": "Town Names",
"parentLayerId": 69,
"defaultVisibility": true,
"subLayerIds": null,
"minScale": 0,
"maxScale": 0,
"type": "Feature Layer",
"geometryType": "esriGeometryPoint",
"supportsDynamicLegends": true
},
{
"id": 72,
"name": "Roads - Norfolk",
"parentLayerId": 69,
"defaultVisibility": true,
"subLayerIds": null,
"minScale": 0,
"maxScale": 0,
"type": "Feature Layer",
"geometryType": "esriGeometryPolyline",
"supportsDynamicLegends": true
},
{
"id": 73,
"name": "Roads - ORN",
"parentLayerId": 69,
"defaultVisibility": true,
"subLayerIds": null,
"minScale": 0,
"maxScale": 0,
"type": "Feature Layer",
"geometryType": "esriGeometryPolyline",
"supportsDynamicLegends": true
},
{
"id": 74,
"name": "Municipal Boundaries",
"parentLayerId": 69,
"defaultVisibility": true,
"subLayerIds": null,
"minScale": 0,
"maxScale": 0,
"type": "Feature Layer",
"geometryType": "esriGeometryPolyline",
"supportsDynamicLegends": true
},
{
"id": 75,
"name": "Township Boundary Line ",
"parentLayerId": 69,
"defaultVisibility": true,
"subLayerIds": null,
"minScale": 0,
"maxScale": 10000,
"type": "Feature Layer",
"geometryType": "esriGeometryPolyline",
"supportsDynamicLegends": true
},
{
"id": 76,
"name": "LakeErie_WithBays_ply",
"parentLayerId": 69,
"defaultVisibility": true,
"subLayerIds": null,
"minScale": 0,
"maxScale": 0,
"type": "Feature Layer",
"geometryType": "esriGeometryPolygon",
"supportsDynamicLegends": true
},
{
"id": 77,
"name": "Municipal Boundaries Surround",
"parentLayerId": 69,
"defaultVisibility": true,
"subLayerIds": null,
"minScale": 0,
"maxScale": 0,
"type": "Feature Layer",
"geometryType": "esriGeometryPolygon",
"supportsDynamicLegends": true
},
{
"id": 78,
"name": "1:320,000",
"parentLayerId": -1,
"defaultVisibility": true,
"subLayerIds": [
79,
80,
81,
82,
83,
84,
85
],
"minScale": 0,
"maxScale": 151000,
"type": "Group Layer",
"supportsDynamicLegends": false
},
{
"id": 79,
"name": "Town Names - Surrounding County",
"parentLayerId": 78,
"defaultVisibility": true,
"subLayerIds": null,
"minScale": 0,
"maxScale": 0,
"type": "Feature Layer",
"geometryType": "esriGeometryPoint",
"supportsDynamicLegends": true
},
{
"id": 80,
"name": "Town Names",
"parentLayerId": 78,
"defaultVisibility": true,
"subLayerIds": null,
"minScale": 0,
"maxScale": 0,
"type": "Feature Layer",
"geometryType": "esriGeometryPoint",
"supportsDynamicLegends": true
},
{
"id": 81,
"name": "Roads - Norfolk",
"parentLayerId": 78,
"defaultVisibility": true,
"subLayerIds": null,
"minScale": 0,
"maxScale": 0,
"type": "Feature Layer",
"geometryType": "esriGeometryPolyline",
"supportsDynamicLegends": true
},
{
"id": 82,
"name": "Roads - ORN",
"parentLayerId": 78,
"defaultVisibility": true,
"subLayerIds": null,
"minScale": 0,
"maxScale": 150000,
"type": "Feature Layer",
"geometryType": "esriGeometryPolyline",
"supportsDynamicLegends": true
},
{
"id": 83,
"name": "Township Boundary Line ",
"parentLayerId": 78,
"defaultVisibility": true,
"subLayerIds": null,
"minScale": 0,
"maxScale": 10000,
"type": "Feature Layer",
"geometryType": "esriGeometryPolyline",
"supportsDynamicLegends": true
},
{
"id": 84,
"name": "Municipal Boundaries Surround",
"parentLayerId": 78,
"defaultVisibility": true,
"subLayerIds": null,
"minScale": 0,
"maxScale": 0,
"type": "Feature Layer",
"geometryType": "esriGeometryPolygon",
"supportsDynamicLegends": true
},
{
"id": 85,
"name": "LakeErie_WithBays_ply",
"parentLayerId": 78,
"defaultVisibility": true,
"subLayerIds": null,
"minScale": 0,
"maxScale": 0,
"type": "Feature Layer",
"geometryType": "esriGeometryPolygon",
"supportsDynamicLegends": true
},
{
"id": 86,
"name": "2020 Airphoto",
"parentLayerId": -1,
"defaultVisibility": true,
"subLayerIds": null,
"minScale": 0,
"maxScale": 0,
"type": "Raster Layer",
"supportsDynamicLegends": true
}
],
"tables": [],
"spatialReference": {
"wkid": 26917,
"latestWkid": 26917,
"xyTolerance": 0.001,
"zTolerance": 0.001,
"mTolerance": 0.001,
"falseX": -5120900,
"falseY": -9998100,
"xyUnits": 10000,
"falseZ": -100000,
"zUnits": 10000,
"falseM": -100000,
"mUnits": 10000
},
"singleFusedMapCache": true,
"tileInfo": {
"rows": 256,
"cols": 256,
"dpi": 96,
"format": "MIXED",
"compressionQuality": 75,
"origin": {
"x": -5120900,
"y": 9998100
},
"spatialReference": {
"wkid": 26917,
"latestWkid": 26917,
"xyTolerance": 2.560000002384187E-4,
"zTolerance": 2.0E-5,
"mTolerance": 0.001,
"falseX": -5120900,
"falseY": -9998100,
"xyUnits": 4.504455473910538E8,
"falseZ": 0,
"zUnits": 100000,
"falseM": -100000,
"mUnits": 10000
},
"lods": [
{
"level": 0,
"resolution": 84.66683600033868,
"scale": 320000
},
{
"level": 1,
"resolution": 52.91677250021167,
"scale": 200000
},
{
"level": 2,
"resolution": 39.687579375158755,
"scale": 150000
},
{
"level": 3,
"resolution": 26.458386250105836,
"scale": 100000
},
{
"level": 4,
"resolution": 13.229193125052918,
"scale": 50000
},
{
"level": 5,
"resolution": 5.291677250021167,
"scale": 20000
},
{
"level": 6,
"resolution": 2.6458386250105836,
"scale": 10000
},
{
"level": 7,
"resolution": 1.3229193125052918,
"scale": 5000
},
{
"level": 8,
"resolution": 0.5291677250021167,
"scale": 2000
},
{
"level": 9,
"resolution": 0.26458386250105836,
"scale": 1000
},
{
"level": 10,
"resolution": 0.19843789687579377,
"scale": 750
},
{
"level": 11,
"resolution": 0.13229193125052918,
"scale": 500
}
]
},
"storageInfo": {
"storageFormat": "esriMapCacheStorageModeCompactV2",
"packetSize": 128
},
"initialExtent": {
"xmin": 544832.4710433638,
"ymin": 4737080.273269498,
"xmax": 560191.919203871,
"ymax": 4744835.196606352,
"spatialReference": {
"wkid": 26917,
"latestWkid": 26917,
"xyTolerance": 0.001,
"zTolerance": 0.001,
"mTolerance": 0.001,
"falseX": -5120900,
"falseY": -9998100,
"xyUnits": 10000,
"falseZ": -100000,
"zUnits": 10000,
"falseM": -100000,
"mUnits": 10000
}
},
"fullExtent": {
"xmin": 260145.99859272037,
"ymin": 4582744.368487768,
"xmax": 739637.0014072815,
"ymax": 6098048.001199087,
"spatialReference": {
"wkid": 26917,
"latestWkid": 26917,
"xyTolerance": 0.001,
"zTolerance": 0.001,
"mTolerance": 0.001,
"falseX": -5120900,
"falseY": -9998100,
"xyUnits": 10000,
"falseZ": -100000,
"zUnits": 10000,
"falseM": -100000,
"mUnits": 10000
}
},
"datesInUnknownTimezone": false,
"minScale": 320000,
"maxScale": 500,
"minLOD": 0,
"maxLOD": 11,
"units": "esriMeters",
"supportedImageFormatTypes": "PNG32,PNG24,PNG,JPG,DIB,TIFF,EMF,PS,PDF,GIF,SVG,SVGZ,BMP",
"documentInfo": {
"Title": "Community Basemap Vector",
"Author": "",
"Comments": " Community Basemap Vector Tiles<\/SPAN><\/P><\/DIV>",
"Subject": "Community Basemap",
"Category": "",
"Version": "2.9.0",
"AntialiasingMode": "Fast",
"TextAntialiasingMode": "Force",
"Keywords": "2020_AirPhoto_Base,MapServer"
},
